BEGIN:VCALENDAR
VERSION:2.0
PRODID:-//Servicio de otorrinolaringología - ECPv6.15.12.2//NONSGML v1.0//EN
CALSCALE:GREGORIAN
METHOD:PUBLISH
X-WR-CALNAME:Servicio de otorrinolaringología
X-ORIGINAL-URL:https://escuelaorl.com
X-WR-CALDESC:Eventos para Servicio de otorrinolaringología
REFRESH-INTERVAL;VALUE=DURATION:PT1H
X-Robots-Tag:noindex
X-PUBLISHED-TTL:PT1H
BEGIN:VTIMEZONE
TZID:UTC
BEGIN:STANDARD
TZOFFSETFROM:+0000
TZOFFSETTO:+0000
TZNAME:UTC
DTSTART:20220101T000000
END:STANDARD
END:VTIMEZONE
BEGIN:VEVENT
DTSTART;VALUE=DATE:20240523
DTEND;VALUE=DATE:20240525
DTSTAMP:20260419T230538
CREATED:20240424T120437Z
LAST-MODIFIED:20240424T145321Z
UID:1442-1716422400-1716595199@escuelaorl.com
SUMMARY:Curso de Sialoendoscopia y mínima invasión
DESCRIPTION:
URL:https://escuelaorl.com/event/curso-de-sialoendoscopia-y-minima-invasion/
CATEGORIES:Próximos Cursos
END:VEVENT
BEGIN:VEVENT
DTSTART;TZID=UTC:20230615T080000
DTEND;TZID=UTC:20230615T170000
DTSTAMP:20260419T230538
CREATED:20230615T063719Z
LAST-MODIFIED:20230615T063817Z
UID:960-1686816000-1686848400@escuelaorl.com
SUMMARY:Curso de Disección Anatomoquirúrgica de Hueso Temporal
DESCRIPTION:
URL:https://escuelaorl.com/event/curso-de-diseccion-anatomoquirurgica-de-hueso-temporal/
CATEGORIES:Curso de Disección Anatomoquirúrgica de Hueso Temporal
END:VEVENT
END:VCALENDAR